BEGIN:VCALENDAR
VERSION:2.0
CALSCALE:GREGORIAN
PRODID:-//Diputació de Barcelona//DibaCMS//EN
BEGIN:VEVENT
UID:764
DTSTAMP:20260421T101512
DTSTART:20191121T000000
DTEND:20191121T000000
SUMMARY:Reunió de Patronat de la Fundació Acció Baix Montseny
LOCATION:
METHOD:PUBLISH
X-WR-CALNAME:vilalba@vilalbasasserra.cat
X-WR-TIMEZONE:Europe/Madrid
DESCRIPTION:
URI:https://www.vilalbasasserra.cat/ajuntament/govern/agenda-politica/reunio-de-patronat-de-la-fundacio-accio-baix-montseny.html
CLASS:PUBLIC
END:VEVENT
END:VCALENDAR
