BEGIN:VCALENDAR
VERSION:2.0
CALSCALE:GREGORIAN
PRODID:-//Diputació de Barcelona//DibaCMS//EN
BEGIN:VEVENT
UID:504
DTSTAMP:20260421T231112
DTSTART:20180213T120000
DTEND:20180213T120000
SUMMARY:Reunió pel projecte del camí del cementiri
LOCATION:
METHOD:PUBLISH
X-WR-CALNAME:vilalba@vilalbasasserra.cat
X-WR-TIMEZONE:Europe/Madrid
DESCRIPTION:Reunio amb Jaume Viure i Alejandro Tornay. Tema projecte cami del cementiri

URI:https://www.vilalbasasserra.cat/ajuntament/govern/agenda-politica/reunio-pel-projecte-del-cami-del-cementiri.html
CLASS:PUBLIC
END:VEVENT
END:VCALENDAR
