BEGIN:VCALENDAR
VERSION:2.0
CALSCALE:GREGORIAN
PRODID:-//Diputació de Barcelona//DibaCMS//EN
BEGIN:VEVENT
UID:437
DTSTAMP:20260419T142419
DTSTART:20170614T100000
DTEND:20170614T100000
SUMMARY:Reunió Oncovallès
LOCATION:08455 Vilalba Sasserra
METHOD:PUBLISH
X-WR-CALNAME:vilalba@vilalbasasserra.cat
X-WR-TIMEZONE:Europe/Madrid
DESCRIPTION:Fundació sense ànim de lucre contra el càncer. 

Assistirà l'Alcalde

URI:https://www.vilalbasasserra.cat/ajuntament/govern/agenda-politica/reunio-oncovalles.html
CLASS:PUBLIC
END:VEVENT
END:VCALENDAR
